{"text_format":"2","workbook":"xlsx","n_sheets":8,"sheets":["SCHED","🚩ANNOUNCMTS","TEAMS","RESULTS","GS","BS","GD","BD"],"not_rendered":{"charts":0,"images":5,"macros":0,"external_links":0,"defined_names":0,"comments":0,"pivot_tables":0},"unopened":[],"bounds":{"document_bytes":16777216,"sheet_cells":100000,"run_cost":"one","rows_first":2000,"rows_last":500,"rows_between":2000,"halvings":0,"cell_chars":16384,"cell_head_chars":4096},"cells_cut":0,"cells_raw":0,"read":"whole","date_system":"1900"}

{"sheet":"SCHED","index":0,"n_rows":26,"n_cols":10,"rows_kept":26,"cut":false,"hidden":false,"merged":[[6,3,6,4],[1,3,2,5],[15,5,15,6],[14,5,14,6],[15,3,15,4],[21,3,21,4],[5,0,5,3],[4,0,4,3],[5,5,5,8],[0,0,0,8],[19,5,19,8],[3,0,3,8]]}
["2019 MHSA State AA Tennis Tournament"]
[]
[]
["Matches will be played on OPEN COURT basis in the order shown - all times are estimates."]
[]
["Thursday",{"$nulls":4},"Friday"]
["CMR","Event","Rounds","# of Matches",null,"CMR","Event","Rounds","# of Matches"]
["08:00:00","Girls Singles","Rd 1",8.0,null,"08:00:00","Singles","Rd 5 & 6",8.0]
[null,"Boys Singles","Rd 1",8.0,null,"09:30:00","Doubles","Rd 5 & 6",8.0]
[null,"Girls Singles","Rd 2 & 3",8.0,null,"11:00:00","Singles","Rd 7 & 8",6.0,"Singles Finals 11"]
[null,"Boys Singles","Rd 2 & 3",8.0,null,"12:00:00","Doubles","Rd 7 & 8",6.0,"Doubles Finals 12"]
[null,"Girls Singles","Rd 4",4.0,null,"01:00:00","Singles","Rd 9",2.0]
[null,"Boys Singles","Rd 4",4.0,{"$nulls":4},32.0]
[null,null,null,40.0]
[]
["MLCC","Event","Rounds","# of Matches"]
["08:00:00","Girls Doubles","Rd 1",8.0]
[null,"Girls Doubles","Rd 2 & 3",8.0]
[null,"Girls Doubles","Rd 4",4.0]
[null,null,null,20.0]
[]
["HURD CTS","Event","Rounds","# of Matches"]
["08:00:00","Boys Doubles","Rd 1",8.0]
[null,"Boys Doubles","Rd 2 & 3",8.0]
[null,"Boys Doubles","Rd 4",4.0]
[null,null,null,20.0]

{"sheet":"🚩ANNOUNCMTS","index":1,"n_rows":11,"n_cols":2,"rows_kept":11,"cut":false,"hidden":false,"merged":[[0,0,0,1]]}
["🚩🚩Announcements🚩🚩"]
[]
["Date/Time","Announcement"]
["5/16-9:45","Parking is available at CMR courts in the west lot.  Tell parking attendants you are with tennis."]
["5/16- 11:30","Semi Final matches (Round 6) will be played Thursday 5/16 afternoon at approximately 3 pm at Meadowlark Country Club.   Girls Doubles could be played earlier based on court availability at MLCC. "]
["5/16- 7:00 pm","A decision on the site of play will be made tommorow morning at approximately 7 am based on weather conditions and forecast. "]
[null,"If competition is moved indoors to MLCC we will begin with the back draw (Round 5) matches.  Back draw matches will utilize abbreviated scoring.  "]
[null,"Championship and 3rd-4th matches will use regular full set scoring."]
[null,"Regardless of site- NO championship matches will be played prior to 10 am."]
["5/17-7:10 am","Matches will be played at the Meadowlark Country Club Courts begining at 8 am due to Rain. "]
["5/17-8:25 am","Order of rounds today will be:  Round 5, Round 7,  Round 8 (championships), Round 9 (Consolation)"]

{"sheet":"TEAMS","index":2,"n_rows":101,"n_cols":23,"rows_kept":101,"cut":false,"hidden":false,"merged":[[95,0,95,1],[95,12,95,13],[55,0,55,1],[50,0,50,1],[43,0,43,1],[36,0,36,1],[25,0,25,1],[30,0,30,1],[21,0,21,1],[74,0,74,1],[74,12,74,13],[60,0,60,1],[68,0,68,1],[84,0,84,1],[88,0,88,1],[88,12,88,13],[84,12,84,13],[60,12,60,13],[68,12,68,13],[13,17,13,21],[12,17,12,21],[3,12,3,22],[0,0,0,22],[1,0,2,22],[3,0,3,10],[13,5,13,9],[12,5,12,9],[50,12,50,13],[43,12,43,13],[55,12,55,13],[25,12,25,13],[21,12,21,13],[30,12,30,13],[36,12,36,13]]}
["2019 MHSA State AA Tennis Tournament"]
[]
[]
["BOYS",{"$nulls":11},"GIRLS"]
["Team Scores",null,"PTS","PLC",{"$nulls":8},"Team Scores",null,"PTS","PLC"]
["MBS","Big Sky",{"$f":"C85","v":6},{"$f":"RANK(C6,C$6:C$18,0)","v":7},{"$nulls":8},"MBS","Big Sky",{"$f":"O85","v":1},{"$f":"RANK(O6,O$6:O$18,0)","v":11}]
["BOZ","Bozeman",{"$f":"C44","v":15},2,null,"PL","PTS",{"$nulls":5},"BOZ","Bozeman",{"$f":"O44","v":30},1,null,"PL","PTS"]
["BUT","Butte",{"$f":"C51","v":2},11,null,"1st",7.0,{"$nulls":5},"BUT","Butte",{"$f":"O51","v":2},10,null,"1st",7.0]
["CAP","Capital",{"$f":"C56","v":2},11,null,"2nd",5.0,{"$nulls":5},"CAP","Capital",{"$f":"O56","v":5},7,null,"2nd",5.0]
["CMR","CMR",{"$f":"C26","v":0},13,null,"3rd",3.0,{"$nulls":5},"CMR","CMR",{"$f":"O26","v":7},6,null,"3rd",3.0]
["FLAT","Flathead",{"$f":"C31","v":7},6,null,"4th",1.0,{"$nulls":5},"FLAT","Flathead",{"$f":"O31","v":0},12,null,"4th",1.0]
["GLA","Glacier",{"$f":"C37","v":14},3,{"$nulls":8},"GLA","Glacier",{"$f":"O37","v":8},5]
["HH","Helena High",{"$f":"C61","v":3},9,null,"2 pts for Rd 1, 2, 6",{"$nulls":6},"HH","Helena High",{"$f":"O61","v":14},4,null,"2 pts for Rd 1, 2, 6"]
["HG","Hellgate",{"$f":"C89","v":12},4,null,"1 pt for Rd 3, 4, 5, 7",{"$nulls":6},"HG","Hellgate",{"$f":"O89","v":17},2,null,"1 pt for Rd 3, 4, 5, 7"]
["SEN","Senior",{"$f":"C69","v":3},9,{"$nulls":8},"SEN","Senior",{"$f":"O69","v":17},2]
["SENT","Sentinel",{"$f":"C96","v":27},1,{"$nulls":8},"SENT","Sentinel",{"$f":"O96","v":3},9]
["SKYV","Skyview",{"$f":"C75","v":6},7,{"$nulls":8},"SKYV","Skyview",{"$f":"O75","v":4},8]
["WEST","West",{"$f":"C81","v":11},5,{"$nulls":8},"WEST","West",{"$f":"O81","v":0},12]
[]
[]
[]
["Great Falls High",null,{"$f":"sum(C24:K24)","v":0},{"$nulls":9},"Great Falls High",null,{"$f":"sum(O24:W24)","v":0}]
[null,"Individual/Team","Rd 1","Rd 2","Rd 3","Rd 4","Rd 5","Rd 6","Rd 7","Rd 8","Rd 9",null,null,"Individual/Team","Rd 1","Rd 2","Rd 3","Rd 4","Rd 5","Rd 6","Rd 7","Rd 8","Rd 9"]
[]
[]
["CMR",null,{"$f":"sum(C28:K28)","v":0},{"$nulls":9},"CMR",null,{"$f":"sum(O28:W29)","v":7}]
[null,"Individual/Team","Rd 1","Rd 2","Rd 3","Rd 4","Rd 5","Rd 6","Rd 7","Rd 8","Rd 9",null,null,"Individual/Team","Rd 1","Rd 2","Rd 3","Rd 4","Rd 5","Rd 6","Rd 7","Rd 8","Rd 9"]
["BS","Shane Kujala",0.0,null,0.0,{"$nulls":7},"GS","Gail Parambi",2.0,2.0,null,null,null,0.0,1.0,null,1.0]
[{"$nulls":12},"GS","Ally Dube",0.0,null,1.0,0.0]
[]
["Flathead",null,{"$f":"sum(C33:K35)","v":7},{"$nulls":9},"Flathead",null,{"$f":"sum(O33:W34)","v":0}]
[null,"Individual/Team","Rd 1","Rd 2","Rd 3","Rd 4","Rd 5","Rd 6","Rd 7","Rd 8","Rd 9",null,null,"Individual/Team","Rd 1","Rd 2","Rd 3","Rd 4","Rd 5","Rd 6","Rd 7","Rd 8","Rd 9"]
["BD","N. White/E. Hawkins",2.0,0.0,null,1.0,0.0,{"$nulls":5},"GD","S. Dilworth/M. Mercer",0.0,null,0.0]
["BS","Joston Cripe",2.0,0.0,null,1.0,1.0,null,0.0,null,null,null,"GD","K. Pyron/E. Hawkins",0.0,null,0.0]
["BS","Brett Thompson",0.0,null,0.0]
[]
["Glacier",null,{"$f":"sum(C39:K42)","v":14},{"$nulls":9},"Glacier",null,{"$f":"sum(O39:W42)","v":8}]
[null,"Individual/Team","Rd 1","Rd 2","Rd 3","Rd 4","Rd 5","Rd 6","Rd 7","Rd 8","Rd 9",null,null,"Individual/Team","Rd 1","Rd 2","Rd 3","Rd 4","Rd 5","Rd 6","Rd 7","Rd 8","Rd 9"]
["BD","B. Desmul/E. Purdy",0.0,null,0.0,{"$nulls":7},"GD","R. Koester/K. Lessmeier",0.0,null,0.0]
["BD","D. Engellant/M. Heil",0.0,null,1.0,0.0,{"$nulls":6},"GD","H. Nikunen/A. Sliter",0.0,null,0.0]
["BD","K. Buckingham/A. Patel",0.0,null,0.0,{"$nulls":7},"GS","Maggie Rudbach",0.0,null,0.0]
["BS","Rory Smith",2.0,2.0,null,null,null,2.0,null,7.0,null,null,"GS","Maria Frampton",2.0,2.0,null,null,null,0.0,1.0,null,3.0]
[]
["Bozeman",null,{"$f":"sum(C46:K47)","v":15},{"$nulls":9},"Bozeman",null,{"$f":"sum(O46:W49)","v":30}]
[null,"Individual/Team","Rd 1","Rd 2","Rd 3","Rd 4","Rd 5","Rd 6","Rd 7","Rd 8","Rd 9",null,null,"Individual/Team","Rd 1","Rd 2","Rd 3","Rd 4","Rd 5","Rd 6","Rd 7","Rd 8","Rd 9"]
["BD","J. Kamp/L. Collins",2.0,0.0,null,1.0,1.0,null,0.0,null,null,null,"GD","L. Ward/S. Hathaway",2.0,2.0,null,null,null,2.0,null,5.0]
["BS","Connor Joly",2.0,2.0,null,null,null,2.0,null,5.0,null,null,"GD","A. Lauman/A. Anderson",2.0,2.0,null,null,null,0.0,0.0]
[{"$nulls":12},"GS","Maicy McCarty",2.0,2.0,null,null,null,2.0,null,7.0]
[{"$nulls":12},"GS","Violet Newhouse",0.0,null,1.0,1.0,0.0]
[]
["Butte",null,{"$f":"sum(C53:K54)","v":2},{"$nulls":9},"Butte",null,{"$f":"sum(O53:W53)","v":2}]
[null,"Individual/Team","Rd 1","Rd 2","Rd 3","Rd 4","Rd 5","Rd 6","Rd 7","Rd 8","Rd 9",null,null,"Individual/Team","Rd 1","Rd 2","Rd 3","Rd 4","Rd 5","Rd 6","Rd 7","Rd 8","Rd 9"]
["BD","D. Ferry/Z. Johnson",0.0,null,0.0,{"$nulls":7},"GD","D. Antmann/A. Loveshin",2.0,0.0,null,0.0]
["BD","A. Francisco/R. Park",0.0,null,1.0,1.0,0.0]
[]
["Helena Capital",null,{"$f":"sum(C58:K59)","v":2},{"$nulls":9},"Helena Capital",null,{"$f":"sum(O58:W59)","v":5}]
[null,"Individual/Team","Rd 1","Rd 2","Rd 3","Rd 4","Rd 5","Rd 6","Rd 7","Rd 8","Rd 9",null,null,"Individual/Team","Rd 1","Rd 2","Rd 3","Rd 4","Rd 5","Rd 6","Rd 7","Rd 8","Rd 9"]
["BS","Ethan Allen",2.0,0.0,null,0.0,{"$nulls":6},"GS","Regan Hanson",2.0,0.0,null,1.0,0.0]
[{"$nulls":12},"GS","Catherine Burbidge",2.0,null,0.0,0.0]
[]
["Helena High",null,{"$f":"sum(C63:K67)","v":3},{"$nulls":9},"Helena High",null,{"$f":"sum(O63:W67)","v":14}]
[null,"Individual/Team","Rd 1","Rd 2","Rd 3","Rd 4","Rd 5","Rd 6","Rd 7","Rd 8","Rd 9",null,null,"Individual/Team","Rd 1","Rd 2","Rd 3","Rd 4","Rd 5","Rd 6","Rd 7","Rd 8","Rd 9"]
["BD","E. Battershell-Corson/M. Abbott",0.0,null,0.0,{"$nulls":7},"GD","A. Trevor/R. Coonen",2.0,0.0,null,0.0]
["BD","C. Casne/C. Ryerson",0.0,null,1.0,0.0,{"$nulls":6},"GD","E. Hasquet/M. Hammer",2.0,0.0,null,1.0,1.0,null,1.0]
["BS","Gavin Anderson",2.0,0.0,null,0.0,{"$nulls":6},"GD","D. Steinmetz/K. Normandy",2.0,0.0,null,1.0,0.0]
["BS","Wyatt Johnson",0.0,null,0.0,{"$nulls":7},"GS","Pilar Santos",2.0,0.0,null,1.0,1.0,null,0.0]
["BS","Elijah Scheinz",0.0,null,0.0,{"$nulls":7},"GS","Trisha Gouveia",0.0,null,0.0]
[]
["Billings Senior",null,{"$f":"sum(C71:K73)","v":3},{"$nulls":9},"Billings Senior",null,{"$f":"sum(O71:W73)","v":17}]
[null,"Individual/Team","Rd 1","Rd 2","Rd 3","Rd 4","Rd 5","Rd 6","Rd 7","Rd 8","Rd 9",null,null,"Individual/Team","Rd 1","Rd 2","Rd 3","Rd 4","Rd 5","Rd 6","Rd 7","Rd 8","Rd 9"]
["BD","M. Foster/J. Driscoll",2.0,0.0,null,0.0,{"$nulls":6},"GD","A. Woods/G. Montague",2.0,2.0,null,null,null,2.0,null,7.0]
["BS","Andy Bough",0.0,null,1.0,0.0,{"$nulls":6},"GS","Kirsten Kraske",2.0,0.0,null,1.0,1.0,null,0.0]
[{"$nulls":12},"GS","Ashley Bough",0.0,null,0.0]
[]
["Billings Skyview",null,{"$f":"sum(C77:K79)","v":6},{"$nulls":9},"Billings Skyview",null,{"$f":"sum(O77:W79)","v":4}]
[null,"Individual/Team","Rd 1","Rd 2","Rd 3","Rd 4","Rd 5","Rd 6","Rd 7","Rd 8","Rd 9",null,null,"Individual/Team","Rd 1","Rd 2","Rd 3","Rd 4","Rd 5","Rd 6","Rd 7","Rd 8","Rd 9"]
["BD","C. Bruner/B. Ebel",0.0,null,1.0,0.0,{"$nulls":6},"GD","H. Carlson/J. Guzman",2.0,2.0,null,null,null,0.0,0.0]
["BS","Aiden Binau",2.0,0.0,null,1.0,1.0,null,0.0]
["BS","Joel Thompson",0.0,null,1.0,0.0]
[]
["Billings West",null,{"$f":"sum(C83:K83)","v":11},{"$nulls":9},"Billings West",null,{"$f":"sum(O83:W83)","v":0}]
[null,"Individual/Team","Rd 1","Rd 2","Rd 3","Rd 4","Rd 5","Rd 6","Rd 7","Rd 8","Rd 9",null,null,"Individual/Team","Rd 1","Rd 2","Rd 3","Rd 4","Rd 5","Rd 6","Rd 7","Rd 8","Rd 9"]
["BD","T. Johnson/J. Ostler",2.0,2.0,null,null,null,2.0,null,5.0]
[]
["Big Sky",null,{"$f":"sum(C87:K87)","v":6},{"$nulls":9},"Big Sky",null,{"$f":"sum(O87:W87)","v":1}]
[null,"Individual/Team","Rd 1","Rd 2","Rd 3","Rd 4","Rd 5","Rd 6","Rd 7","Rd 8","Rd 9",null,null,"Individual/Team","Rd 1","Rd 2","Rd 3","Rd 4","Rd 5","Rd 6","Rd 7","Rd 8","Rd 9"]
["BS","Liam Johnson",2.0,2.0,null,null,null,0.0,1.0,null,1.0,null,"GD","C. Farago/B. Gee",0.0,null,1.0,0.0]
[]
["Hellgate",null,{"$f":"sum(C91:K93)","v":12},{"$nulls":9},"Hellgate",null,{"$f":"sum(O91:W94)","v":17}]
[null,"Individual/Team","Rd 1","Rd 2","Rd 3","Rd 4","Rd 5","Rd 6","Rd 7","Rd 8","Rd 9",null,null,"Individual/Team","Rd 1","Rd 2","Rd 3","Rd 4","Rd 5","Rd 6","Rd 7","Rd 8","Rd 9"]
["BD","A. Mosely/H. Stahl",2.0,0.0,null,1.0,1.0,null,1.0,null,null,null,"GD","M. Heffernan/E. Bowles",0.0,null,1.0,1.0,1.0,null,1.0]
["BD","H. Ledyard/W. Brown",2.0,2.0,null,null,null,0.0,1.0,null,null,null,"GD","E. Peasley/E. Webster",0.0,null,1.0,1.0,0.0]
["BS","Hamilton Smith",0.0,null,1.0,1.0,0.0,{"$nulls":5},"GS","Hannah Worden",2.0,2.0,null,null,null,2.0,null,5.0]
[{"$nulls":12},"GS","Lily Wright",0.0,null,0.0]
[]
["Sentinel",null,{"$f":"sum(C98:K101)","v":27},{"$nulls":9},"Sentinel",null,{"$f":"sum(O98:W100)","v":3}]
[null,"Individual/Team","Rd 1","Rd 2","Rd 3","Rd 4","Rd 5","Rd 6","Rd 7","Rd 8","Rd 9",null,null,"Individual/Team","Rd 1","Rd 2","Rd 3","Rd 4","Rd 5","Rd 6","Rd 7","Rd 8","Rd 9"]
["BD","C. Curtis/C. D'Angelo",2.0,2.0,null,null,null,2.0,null,7.0,null,null,"GD","L. Badger/L. Badger",0.0,null,1.0,0.0]
["BD","J. Johnston/S. Olsen",2.0,2.0,null,null,null,0.0,0.0,null,null,null,"GS","Meredith Murdock",0.0,null,1.0,0.0]
["BS","Ethan Violette",2.0,2.0,null,null,null,0.0,1.0,null,3.0,null,"GS","Sarah Armstong",0.0,null,1.0,0.0]
["BS","Aiden Watson",0.0,null,1.0,1.0,0.0]

{"sheet":"RESULTS","index":3,"n_rows":126,"n_cols":9,"rows_kept":126,"cut":false,"hidden":false,"merged":[[115,0,115,2],[114,0,114,2],[120,0,120,2],[122,0,122,2],[121,0,121,2],[119,0,119,2],[118,0,118,2],[0,7,0,8],[124,0,124,2],[125,0,125,2],[117,0,117,2],[116,0,116,2],[123,0,123,2]]}
[{"$nulls":7},"match/column"]
["#","EV","CT","Individual/Team (SCH)","VS","Individual/Team (SCH)","Score","W","L"]
[1.0,"GS","CMR","Maicy McCarty (BOZ)",null,"Maggie Rudbach (GLA)","6-0, 6-0","33D","36D"]
[2.0,"GS","CMR","Meredith Murdock (SENT)",null,"Catherine Burbidge (CAP)","6-2, 7-5","33F","36F"]
[3.0,"GS","CMR","Pilar Santos (HH)",null,"Lily Wright (HG)","6-2, 6-1","35D","34D"]
[4.0,"GS","CMR","Violet Newhouse (BOZ)",null,"Maria Frampton (GLA)","6-1, 6-1","35F","34F"]
[5.0,"GS","CMR","Hannah Worden (HG)",null,"Trisha Gouveia (HH)","6-0, 6-0","37D","40D"]
[6.0,"GS","CMR","Kirsten Kraske (SEN)",null,"Ally Dube (CMR)","6-0, 6-4","37F","40F"]
[7.0,"GS","CMR","Gail Parambi (CMR)",null,"Ashley Bough (SEN)","6-3, 6-2","39D","38D"]
[8.0,"GS","CMR","Regan Hanson (CAP)",null,"Sarah Armstong (SENT)","6-2, 6-0","39F","38F"]
[9.0,"BS","CMR","Connor Joly (BOZ)",null,"Aiden Watson (SENT)","6-2,6-3","41D","44D"]
[10.0,"BS","CMR","Joston Cripe (FLAT)",null,"Wyatt Johnson (HH)","6-4,7-5","41F","44F"]
[11.0,"BS","CMR","Ethan Allen (CAP)",null,"Shane Kujala (CMR)","6-1, 6-4","43D","42D"]
[12.0,"BS","CMR","Liam Johnson (MBS)",null,"Andy Bough (SEN)","6-1, 6-0","43F","42F"]
[13.0,"BS","CMR","Rory Smith (GLA)",null,"Elijah Scheinz (HH)","6-0,6-0","45D","48D"]
[14.0,"BS","CMR","Aiden Binau (SKYV)",null,"Hamilton Smith (HG)","6-1, 6-0","45F","48F"]
[15.0,"BS","CMR","Ethan Violette (SENT)",null,"Joel Thompson (SKYV)","6-0, 6-1","47D","46D"]
[16.0,"BS","CMR","Gavin Anderson (HH)",null,"Brett Thompson (FLAT)","6-1, 6-0","47F","46F"]
[17.0,"GD","MLCC","A. Woods/G. Montague (SEN)",null,"E. Peasley/E. Webster (HG)","6-0, 6-1","49D","52D"]
[18.0,"GD","MLCC","R. Koester/K. Lessmeier (GLA)",null,"D. Antmann/A. Loveshin (BUT)","4-6, 6-2, 6-2","49F","52F"]
[19.0,"GD","MLCC","A. Trevor/R. Coonen (HH)",null,"S. Dilworth/M. Mercer (FLAT)","Default","51D","50D"]
[20.0,"GD","MLCC","M. Heffernan/E. Bowles (HG)",null,"A. Lauman/A. Anderson (BOZ)","6-3, 7-5","51F","50F"]
[21.0,"GD","MLCC","H. Nikunen/A. Sliter (GLA)",null,"D. Steinmetz/K. Normandy (HH)","6-2, 6-3","53D","56D"]
[22.0,"GD","MLCC","L. Ward/S. Hathaway (BOZ)",null,"C. Farago/B. Gee (MBS)","6-0, 6-2","53F","56F"]
[23.0,"GD","MLCC","L. Badger/L. Badger (SENT)",null,"H. Carlson/J. Guzman (SKYV)","7-5, 6-1","55D","54D"]
[24.0,"GD","MLCC","E. Hasquet/M. Hammer (HH)",null,"K. Pyron/E. Hawkins (FLAT)","6-2, 6-3","55F","54F"]
[25.0,"BD","HURD","T. Johnson/J. Ostler (WEST)",null,"D. Engellant/M. Heil (GLA)","6-2,6-0","57D","60D"]
[26.0,"BD","HURD","A. Mosely/H. Stahl (HG)",null,"D. Ferry/Z. Johnson (BUT)","6-1,6-1","57F","60F"]
[27.0,"BD","HURD","E. Battershell-Corson/\nM. Abbott (HH)",null,"H. Ledyard/W. Brown (HG)","6-1,6-1","59D","58D"]
[28.0,"BD","HURD","C. Brunner/B. Ebel (SKYV)",null,"N. White/E. Hawkins (FLAT)","6-4,6-3","59F","58F"]
[29.0,"BD","HURD","C. Curtis/C. D'Angelo (SENT)",null,"A. Francisco/R. Park (BUT)","6-1, 6-1","61D","64D"]
[30.0,"BD","HURD","J. Kamp/L. Collins (BOZ)",null,"K. Buckingham/\nA. Patel (GLA)","6-2,6-2","61F","64F"]
[31.0,"BD","HURD","B. Desmul/E. Purdy (GLA)",null,"M. Foster/J. Driscoll (SEN)","7-6 (4), 1-6, 6-1","63D","62D"]
[32.0,"BD","HURD","C. Casne/C. Ryerson (HH)",null,"J. Johnston/S. Olsen (SENT)","6-4,6-1","63F","62F"]
[33.0,"GS","CMR","Maicy McCarty (BOZ)",null,"Catherine Burbidge (CAP)","6-0, 6-0","81D","66F"]
[34.0,"GS","CMR","Lily Wright (HG)",null,"Violet Newhouse (BOZ)","2-6, 6-1, 6-3","66D","OUT"]
[35.0,"GS","CMR","Pilar Santos (HH)",null,"Maria Frampton (GLA)","6-3, 6-1","81F","65F"]
[36.0,"GS","CMR","Maggie Rudbach (GLA)",null,"Meredith Murdock (SENT)","6-1, 6-0","65D","OUT"]
[37.0,"GS","CMR","Hannah Worden (HG)",null,"Kirsten Kraske (SEN)","7-6 (4), 6-3","82D","68F"]
[38.0,"GS","CMR","Ashley Bough (SEN)",null,"Sarah Armstong (SENT)","6-3, 5-7, 6-2","68D","OUT"]
[39.0,"GS","CMR","Gail Parambi (CMR)",null,"Regan Hanson (CAP)","6-4, 6-3","82F","67F"]
[40.0,"GS","CMR","Trisha Gouveia (HH)",null,"Ally Dube (CMR)","6-1, 7-6 (7-2)","67D","OUT"]
[41.0,"BS","CMR","Connor Joly (BOZ)",null,"Joston Cripe (FLAT)","6-0, 6-0","85D","70F"]
[42.0,"BS","CMR","Shane Kujala (CMR)",null,"Andy Bough (SEN)","6-0, 6-3","70D","OUT"]
[43.0,"BS","CMR","Ethan Allen (CAP)",null,"Liam Johnson (MBS)","6-3, 6-1","85F","69F"]
[44.0,"BS","CMR","Aiden Watson (SENT)",null,"Wyatt Johnson (HH)","6-1, 6-7, 6-4","69D","OUT"]
[45.0,"BS","CMR","Rory Smith (GLA)",null,"Aiden Binau (SKYV)","6-0, 7-6","86D","72F"]
[46.0,"BS","CMR","Joel Thompson (SKYV)",null,"Brett Thompson (FLAT)","7-5, 6-4","72D","OUT"]
[47.0,"BS","CMR","Ethan Violette (SENT)",null,"Gavin Anderson (HH)","6-1, 6-1","86F","71F"]
[48.0,"BS","CMR","Elijah Scheinz (HH)",null,"Hamilton Smith (HG)","6-1, 6-0","71D","OUT"]
[49.0,"GD","MLCC","A. Woods/G. Montague (SEN)",null,"D. Antmann/A. Loveshin (BUT)","6-1, 6-1","89D","74F"]
[50.0,"GD","MLCC","S. Dilworth/M. Mercer (FLAT)",null,"M. Heffernan/E. Bowles (HG)","Default","74D","OUT"]
[51.0,"GD","MLCC","A. Trevor/R. Coonen (HH)",null,"A. Lauman/A. Anderson (BOZ)","6-1, 6-7 (7-2), 6-3","89F","73F"]
[52.0,"GD","MLCC","E. Peasley/E. Webster (HG)",null,"R. Koester/K. Lessmeier (GLA)","6-2,7-5","73D","OUT"]
[53.0,"GD","MLCC","D. Steinmetz/K. Normandy (HH)",null,"L. Ward/S. Hathaway (BOZ)","6-1, 6-2","91D","76F"]
[54.0,"GD","MLCC","L. Badger/L. Badger (SENT)",null,"K. Pyron/E. Hawkins (FLAT)","6-1, 4-6, 7-6 (7-5)","76D","OUT"]
[55.0,"GD","MLCC","H. Carlson/J. Guzman (SKYV)",null,"E. Hasquet/M. Hammer (HH)","7-6 (7-4), 4-6, 6-2","91F","75F"]
[56.0,"GD","MLCC","H. Nikunen/A. Sliter (GLA)",null,"C. Farago/B. Gee (MBS)","6-2, 6-2","75D","OUT"]
[57.0,"BD","HURD","T. Johnson/J. Ostler (WEST)",null,"A. Mosely/H. Stahl (HG)","6-3, 4-6, 6-4","93D","78F"]
[58.0,"BD","HURD","E. Battershell-Corson/\nM. Abbott (HH)",null,"C. Brunner/B. Ebel (SKYV)","6-1, 6-3","78D","OUT"]
[59.0,"BD","HURD","H. Ledyard/W. Brown (HG)",null,"N. White/E. Hawkins (FLAT)","6-1, 6-2","93F","77F"]
[60.0,"BD","HURD","D. Engellant/M. Heil (GLA)",null,"D. Ferry/Z. Johnson (BUT)","6-3, 6-4","77D","OUT"]
[61.0,"BD","HURD","C. Curtis/C. D'Angelo (SENT)",null,"J. Kamp/L. Collins (BOZ)","6-1, 7-5","95D","80F"]
[62.0,"BD","HURD","B. Desmul/E. Purdy (GLA)",null,"C. Casne/C. Ryerson (HH)","6-3, 6-2","80D","OUT"]
[63.0,"BD","HURD","M. Foster/J. Driscoll (SEN)",null,"J. Johnston/S. Olsen (SENT)","6-2, 6-3","95F","79F"]
[64.0,"BD","HURD","A. Francisco/R. Park (BUT)",null,"K. Buckingham/\nA. Patel (GLA)","6-4, 0-6, 7-6 (5)","79D","OUT"]
[65.0,"GS","CMR","Meredith Murdock (SENT)",null,"Pilar Santos (HH)","6-2, 1-6, 6-4","83D","OUT"]
[66.0,"GS","CMR","Violet Newhouse (BOZ)",null,"Catherine Burbidge (CAP)","6-1, 7-5","83F","OUT"]
[67.0,"GS","CMR","Ally Dube (CMR)",null,"Regan Hanson (CAP)","6-4, 3-6, 7-5","84D","OUT"]
[68.0,"GS","CMR","Sarah Armstong (SENT)",null,"Kirsten Kraske (SEN)","6-2, 6-1","84F","OUT"]
[69.0,"BS","CMR","Aiden Watson (SENT)",null,"Ethan Allen (CAP)","6-0, 6-2","87D","OUT"]
[70.0,"BS","CMR","Andy Bough (SEN)",null,"Joston Cripe (FLAT)","6-4, 6-1","87F","OUT"]
[71.0,"BS","CMR","Hamilton Smith (HG)",null,"Gavin Anderson (HH)","5-7, 7-6 (8-6), 6-2","88D","OUT"]
[72.0,"BS","CMR","Joel Thompson (SKYV)",null,"Aiden Binau (SKYV)","6-2, 6-1","88F","OUT"]
[73.0,"GD","MLCC","E. Peasley/E. Webster (HG)",null,"A. Trevor/R. Coonen (HH)","7-6 (7-4) ,6-2","92D","OUT"]
[74.0,"GD","MLCC","M. Heffernan/E. Bowles (HG)",null,"D. Antmann/A. Loveshin (BUT)","7-5, 6-4","92F","OUT"]
[75.0,"GD","MLCC","C. Farago/B. Gee (MBS)",null,"E. Hasquet/M. Hammer (HH)","6-4,6-3","90D","OUT"]
[76.0,"GD","MLCC","L. Badger/L. Badger (SENT)",null,"D. Steinmetz/K. Normandy (HH)","6-3, 4-6, 6-2","90F","OUT"]
[77.0,"BD","HURD","D. Engellant/M. Heil (GLA)",null,"N. White/E. Hawkins (FLAT)","6-4, 6-3","96D","OUT"]
[78.0,"BD","HURD","C. Brunner/B. Ebel (SKYV)",null,"A. Mosely/H. Stahl (HG)","6-2,6-4","96F","OUT"]
[79.0,"BD","HURD","A. Francisco/R. Park (BUT)",null,"M. Foster/J. Driscoll (SEN)","6-1, 6-4","94D","OUT"]
[80.0,"BD","HURD","C. Casne/C. Ryerson (HH)",null,"J. Kamp/L. Collins (BOZ)","7-6(5), 4-6, 6-0","94F","OUT"]
[81.0,"GS",null,"Maicy McCarty (BOZ)",null,"Maria Frampton (GLA)","6-1, 6-1","101D","98D"]
[82.0,"GS",null,"Hannah Worden (HG)",null,"Gail Parambi (CMR)","6-1, 6-2","101F","97F"]
[83.0,"GS",null,"Pilar Santos (HH)",null,"Violet Newhouse (BOZ)","6-3, 6-3","97D","OUT"]
[84.0,"GS",null,"Regan Hanson (CAP)",null,"Kirsten Kraske (SEN)","6-4, 6-4","98F","OUT"]
[85.0,"BS",null,"Connor Joly (BOZ)",null,"Liam Johnson (MBS)","6-4, 7-5","102D","100D"]
[86.0,"BS",null,"Rory Smith (GLA)",null,"Ethan Violette (SENT)","7-6(7-3), 2-6, 7-6 (7-4)","102F","99F"]
[87.0,"BS",null,"Aiden Watson (SENT)",null,"Joston Cripe (FLAT)","6-3, 6-4","99D","OUT"]
[88.0,"BS",null,"Hamilton Smith (HG)",null,"Aiden Binau (SKYV)","6-3, 6-3","100F","OUT"]
[89.0,"GD",null,"A. Woods/G. Montague (SEN)",null,"A. Lauman/A. Anderson (BOZ)","6-1, 6-1","107D","103D"]
[90.0,"GD",null,"E. Hasquet/M. Hammer (HH)",null,"D. Steinmetz/K. Normandy (HH)","6-4, 6-2","103F","OUT"]
[91.0,"GD",null,"L. Ward/S. Hathaway (BOZ)",null,"H. Carlson/J. Guzman (SKYV)","4-6, 6-3, 6-3","107F","104F"]
[92.0,"GD",null,"E. Peasley/E. Webster (HG)",null,"M. Heffernan/E. Bowles (HG)","6-3, 6-4","104D","OUT"]
[93.0,"BD",null,"T. Johnson/J. Ostler (WEST)",null,"H. Ledyard/W. Brown (HG)","3-6, 6-3, 7-5","108D","105D"]
[94.0,"BD",null,"A. Francisco/R. Park (BUT)",null,"J. Kamp/L. Collins (BOZ)","6-4, 6-3","105F","OUT"]
[95.0,"BD",null,"C. Curtis/C. D'Angelo (SENT)",null,"J. Johnston/S. Olsen (SENT)","6-2, 6-2","108F","106F"]
[96.0,"BD",null,"N. White/E. Hawkins (FLAT)",null,"A. Mosely/H. Stahl (HG)","7-6 (10-8), 6-2","106D","OUT"]
[97.0,"GS",null,"Pilar Santos (HH)",null,"Gail Parambi (CMR)","7-6 (7-3), 7-6 (7-1)","109D","OUT"]
[98.0,"GS",null,"Maria Frampton (GLA)",null,"Kirsten Kraske (SEN)","6-7 (4), 6-3, 10-7","109F","OUT"]
[99.0,"BS",null,"Joston Cripe (FLAT)",null,"Ethan Violette (SENT)","6-2, 6-2","110D","OUT"]
[100.0,"BS",null,"Liam Johnson (MBS)",null,"Aiden Binau (SKYV)","6-3, 6-3","110F","OUT"]
[101.0,"GS",null,"Maicy McCarty (BOZ)",null,"Hannah Worden (HG)","6-0, 6-3","D115"]
[102.0,"BS",null,"Connor Joly (BOZ)",null,"Rory Smith (GLA)","7-6 (7-4), 6-1","D116"]
[103.0,"GD",null,"A. Lauman/A. Anderson (BOZ)",null,"E. Hasquet/M. Hammer (HH)","6-3, 6-3","111F","OUT"]
[104.0,"GD",null,"M. Heffernan/E. Bowles (HG)",null,"H. Carlson/J. Guzman (SKYV)","6-3, 4-6, 10-4","111D","OUT"]
[105.0,"BD",null,"H. Ledyard/W. Brown (HG)",null,"J. Kamp/L. Collins (BOZ)","7-6(7-3), 6-2","112F","OUT"]
[106.0,"BD",null,"A. Mosely/H. Stahl (HG)",null,"J. Johnston/S. Olsen (SENT)","6-2, 5-7, 10-4","112D","OUT"]
[107.0,"GD",null,"A. Woods/G. Montague (SEN)",null,"L. Ward/S. Hathaway (BOZ)","6-1, 6-0","D121"]
[108.0,"BD",null,"T. Johnson/J. Ostler (WEST)",null,"C. Curtis/C. D'Angelo (SENT)","6-3, 6-2","D122"]
[109.0,"GS",null,"Gail Parambi (CMR)",null,"Maria Frampton (GLA)","6-2. 6-2","D123"]
[110.0,"BS",null,"Ethan Violette (SENT)",null,"Liam Johnson (MBS)","6-2, 6-2","D124"]
[111.0,"GD",null,"M. Heffernan/E. Bowles (HG)",null,"E. Hasquet/M. Hammer (HH)",null,"D125"]
[112.0,"BD",null,"A. Mosely/H. Stahl (HG)",null,"H. Ledyard/W. Brown (HG)",null,"D126"]
["Match 101 Winner",null,null,"Maicy McCarty (BOZ)"]
["Match 102 Winner",null,null,"Rory Smith (GLA)"]
["Match 103 Winner"]
["Match 104 Winner"]
["Match 105 Winner"]
["Match 106 Winner"]
["Match 107 Winner",null,null,"A. Woods/G. Montague (SEN)"]
["Match 108 Winner",null,null,"C. Curtis/C. D'Angelo (SENT)"]
["Match 109 Winner",null,null,"Maria Frampton (GLA)"]
["Match 110 Winner",null,null,"Ethan Violette (SENT)"]
["Match 111 Winner"]
["Match 112 Winner"]

{"sheet":"GS","index":4,"n_rows":36,"n_cols":11,"rows_kept":36,"cut":false,"hidden":false,"merged":[[0,0,0,10],[1,0,1,10],[35,8,35,9],[2,0,9,1]]}
["2019 MHSA State AA Tennis Tournament"]
["Girls Singles"]
[{"$nulls":5},"Round 3","Round 1","Round 2"]
[]
[{"$nulls":4},"Round 4",null,{"$f":"RESULTS!D3","v":"Maicy McCarty (BOZ)"},null,"Round 6"]
[{"$nulls":5},{"$f":"RESULTS!D38","v":"Maggie Rudbach (GLA)"},1.0,{"$f":"RESULTS!D35","v":"Maicy McCarty (BOZ)"}]
[null,null,null,"Round 5",null,null,{"$f":"RESULTS!F3","v":"Maggie Rudbach (GLA)"},{"$f":"RESULTS!G3","v":"6-0, 6-0"},null,"Round 8"]
[{"$nulls":4},{"$f":"RESULTS!D67","v":"Meredith Murdock (SENT)"},36.0,null,33.0,{"$f":"RESULTS!D83","v":"Maicy McCarty (BOZ)"}]
[null,null,"Round 7",null,{"$f":"RESULTS!G38","v":"6-1, 6-0"},null,{"$f":"RESULTS!D4","v":"Meredith Murdock (SENT)"},null,{"$f":"RESULTS!G35","v":"6-0, 6-0"}]
[null,null,null,{"$f":"RESULTS!D85","v":"Pilar Santos (HH)"},65.0,{"$f":"RESULTS!F38","v":"Meredith Murdock (SENT)"},2.0,{"$f":"RESULTS!F35","v":"Catherine Burbidge (CAP)"}]
[null,null,null,{"$f":"RESULTS!G67","v":"6-2, 1-6, 6-4"},null,null,{"$f":"RESULTS!F4","v":"Catherine Burbidge (CAP)"},{"$f":"RESULTS!G4","v":"6-2, 7-5"}]
[null,"Round 9",null,null,{"$f":"RESULTS!F67","v":"Pilar Santos (HH)"},null,null,null,81.0,{"$f":"RESULTS!D103","v":"Maicy McCarty (BOZ)"}]
[{"$nulls":4},"Loser 35",null,{"$f":"RESULTS!D5","v":"Pilar Santos (HH)"},null,null,{"$f":"RESULTS!G83","v":"6-1, 6-1"}]
[null,null,{"$f":"RESULTS!D99","v":"Pilar Santos (HH)"},83.0,null,{"$f":"RESULTS!D36","v":"Lily Wright (HG)"},3.0,{"$f":"RESULTS!D37","v":"Pilar Santos (HH)"}]
[null,null,{"$f":"RESULTS!G85","v":"6-3, 6-3"},null,null,null,{"$f":"RESULTS!F5","v":"Lily Wright (HG)"},{"$f":"RESULTS!G5","v":"6-2, 6-1"}]
[{"$nulls":4},{"$f":"RESULTS!D68","v":"Violet Newhouse (BOZ)"},34.0,null,35.0,{"$f":"RESULTS!F83","v":"Maria Frampton (GLA)"}]
[null,{"$f":"RESULTS!D111","v":"Gail Parambi (CMR)"},97.0,null,{"$f":"RESULTS!G36","v":"2-6, 6-1, 6-3"},null,{"$f":"RESULTS!D6","v":"Violet Newhouse (BOZ)"},null,{"$f":"RESULTS!G37","v":"6-3, 6-1"}]
[null,{"$f":"RESULTS!G99","v":"7-6 (7-3), 7-6 (7-1)"},null,{"$f":"RESULTS!F85","v":"Violet Newhouse (BOZ)"},66.0,{"$f":"RESULTS!F36","v":"Violet Newhouse (BOZ)"},4.0,{"$f":"RESULTS!F37","v":"Maria Frampton (GLA)"}]
[null,null,null,{"$f":"RESULTS!G68","v":"6-1, 7-5"},null,null,{"$f":"RESULTS!F6","v":"Maria Frampton (GLA)"},{"$f":"RESULTS!G6","v":"6-1, 6-1"}]
[null,null,{"$f":"RESULTS!F99","v":"Gail Parambi (CMR)"},null,{"$f":"RESULTS!F68","v":"Catherine Burbidge (CAP)"},null,{"$f":"RESULTS!D7","v":"Hannah Worden (HG)"},null,null,101.0,{"$f":"RESULTS!D115","v":"Maicy McCarty (BOZ)"}]
[{"$f":"RESULTS!D123","v":"Maria Frampton (GLA)"},109.0,"Loser 82",null,"Loser 33",{"$f":"RESULTS!D42","v":"Trisha Gouveia (HH)"},5.0,{"$f":"RESULTS!D39","v":"Hannah Worden (HG)"},null,null,{"$f":"RESULTS!G103","v":"6-0, 6-3"}]
[{"$f":"RESULTS!G111","v":"6-2. 6-2"},{"$nulls":5},{"$f":"RESULTS!F7","v":"Trisha Gouveia (HH)"},{"$f":"RESULTS!G7","v":"6-0, 6-0"}]
[null,null,{"$f":"RESULTS!D100","v":"Maria Frampton (GLA)"},null,{"$f":"RESULTS!D69","v":"Ally Dube (CMR)"},40.0,null,37.0,{"$f":"RESULTS!D84","v":"Hannah Worden (HG)"}]
[null,null,"Loser 81",null,{"$f":"RESULTS!G42","v":"6-1, 7-6 (7-2)"},null,{"$f":"RESULTS!D8","v":"Kirsten Kraske (SEN)"},null,{"$f":"RESULTS!G39","v":"7-6 (4), 6-3"}]
[null,null,null,{"$f":"RESULTS!D86","v":"Regan Hanson (CAP)"},67.0,{"$f":"RESULTS!F42","v":"Ally Dube (CMR)"},6.0,{"$f":"RESULTS!F39","v":"Kirsten Kraske (SEN)"}]
[null,{"$f":"RESULTS!F111","v":"Maria Frampton (GLA)"},98.0,{"$f":"RESULTS!G69","v":"6-4, 3-6, 7-5"},null,null,{"$f":"RESULTS!F8","v":"Ally Dube (CMR)"},{"$f":"RESULTS!G8","v":"6-0, 6-4"}]
[null,{"$f":"RESULTS!G100","v":"6-7 (4), 6-3, 10-7"},null,null,{"$f":"RESULTS!F69","v":"Regan Hanson (CAP)"},null,null,null,82.0,{"$f":"RESULTS!F103","v":"Hannah Worden (HG)"}]
[{"$nulls":4},"Loser 39",null,{"$f":"RESULTS!D9","v":"Gail Parambi (CMR)"},null,null,{"$f":"RESULTS!G84","v":"6-1, 6-2"}]
[null,null,{"$f":"RESULTS!F100","v":"Kirsten Kraske (SEN)"},84.0,null,{"$f":"RESULTS!D40","v":"Ashley Bough (SEN)"},7.0,{"$f":"RESULTS!D41","v":"Gail Parambi (CMR)"}]
[null,null,{"$f":"RESULTS!G86","v":"6-4, 6-4"},null,null,null,{"$f":"RESULTS!F9","v":"Ashley Bough (SEN)"},{"$f":"RESULTS!G9","v":"6-3, 6-2"}]
[{"$nulls":4},{"$f":"RESULTS!D70","v":"Sarah Armstong (SENT)"},38.0,null,39.0,{"$f":"RESULTS!F84","v":"Gail Parambi (CMR)"}]
[{"$nulls":4},{"$f":"RESULTS!G40","v":"6-3, 5-7, 6-2"},null,{"$f":"RESULTS!D10","v":"Regan Hanson (CAP)"},null,{"$f":"RESULTS!G41","v":"6-4, 6-3"}]
[null,null,null,{"$f":"RESULTS!F86","v":"Kirsten Kraske (SEN)"},68.0,{"$f":"RESULTS!F40","v":"Sarah Armstong (SENT)"},8.0,{"$f":"RESULTS!F41","v":"Regan Hanson (CAP)"}]
[null,null,null,{"$f":"RESULTS!G70","v":"6-2, 6-1"},null,null,{"$f":"RESULTS!F10","v":"Sarah Armstong (SENT)"},{"$f":"RESULTS!G10","v":"6-2, 6-0"}]
[{"$nulls":4},{"$f":"RESULTS!F70","v":"Kirsten Kraske (SEN)"}]
[{"$nulls":4},"Loser 37"]

{"sheet":"BS","index":5,"n_rows":36,"n_cols":11,"rows_kept":36,"cut":false,"hidden":false,"merged":[[0,0,0,10],[1,0,1,10],[35,8,35,9],[2,0,9,1]]}
["2019 MHSA State AA Tennis Tournament"]
["Boys Singles"]
[{"$nulls":5},"Round 3","Round 1","Round 2"]
[]
[{"$nulls":4},"Round 4",null,{"$f":"RESULTS!D11","v":"Connor Joly (BOZ)"},null,"Round 6"]
[{"$nulls":5},{"$f":"RESULTS!D46","v":"Aiden Watson (SENT)"},9.0,{"$f":"RESULTS!D43","v":"Connor Joly (BOZ)"}]
[null,null,null,"Round 5",null,null,{"$f":"RESULTS!F11","v":"Aiden Watson (SENT)"},{"$f":"RESULTS!G11","v":"6-2,6-3"},null,"Round 8"]
[{"$nulls":4},{"$f":"RESULTS!D71","v":"Aiden Watson (SENT)"},44.0,null,41.0,{"$f":"RESULTS!D87","v":"Connor Joly (BOZ)"}]
[null,null,"Round 7",null,{"$f":"RESULTS!G46","v":"6-1, 6-7, 6-4"},null,{"$f":"RESULTS!D12","v":"Joston Cripe (FLAT)"},null,{"$f":"RESULTS!G43","v":"6-0, 6-0"}]
[null,null,null,{"$f":"RESULTS!D89","v":"Aiden Watson (SENT)"},69.0,{"$f":"RESULTS!F46","v":"Wyatt Johnson (HH)"},10.0,{"$f":"RESULTS!F43","v":"Joston Cripe (FLAT)"}]
[null,null,null,{"$f":"RESULTS!G71","v":"6-0, 6-2"},null,null,{"$f":"RESULTS!F12","v":"Wyatt Johnson (HH)"},{"$f":"RESULTS!G12","v":"6-4,7-5"}]
[null,"Round 9",null,null,{"$f":"RESULTS!F71","v":"Ethan Allen (CAP)"},null,null,null,85.0,{"$f":"RESULTS!D104","v":"Connor Joly (BOZ)"}]
[{"$nulls":4},"Loser 43",null,{"$f":"RESULTS!D13","v":"Ethan Allen (CAP)"},null,null,{"$f":"RESULTS!G87","v":"6-4, 7-5"}]
[null,null,{"$f":"RESULTS!D101","v":"Joston Cripe (FLAT)"},87.0,null,{"$f":"RESULTS!D44","v":"Shane Kujala (CMR)"},11.0,{"$f":"RESULTS!D45","v":"Ethan Allen (CAP)"}]
[null,null,{"$f":"RESULTS!G89","v":"6-3, 6-4"},null,null,null,{"$f":"RESULTS!F13","v":"Shane Kujala (CMR)"},{"$f":"RESULTS!G13","v":"6-1, 6-4"}]
[{"$nulls":4},{"$f":"RESULTS!D72","v":"Andy Bough (SEN)"},42.0,null,43.0,{"$f":"RESULTS!F87","v":"Liam Johnson (MBS)"}]
[null,{"$f":"RESULTS!D112","v":"Ethan Violette (SENT)"},99.0,null,{"$f":"RESULTS!G44","v":"6-0, 6-3"},null,{"$f":"RESULTS!D14","v":"Liam Johnson (MBS)"},null,{"$f":"RESULTS!G45","v":"6-3, 6-1"}]
[null,{"$f":"RESULTS!G101","v":"6-2, 6-2"},null,{"$f":"RESULTS!F89","v":"Joston Cripe (FLAT)"},70.0,{"$f":"RESULTS!F44","v":"Andy Bough (SEN)"},12.0,{"$f":"RESULTS!F45","v":"Liam Johnson (MBS)"}]
[null,null,null,{"$f":"RESULTS!G72","v":"6-4, 6-1"},null,null,{"$f":"RESULTS!F14","v":"Andy Bough (SEN)"},{"$f":"RESULTS!G14","v":"6-1, 6-0"}]
[null,null,{"$f":"RESULTS!F101","v":"Ethan Violette (SENT)"},null,{"$f":"RESULTS!F72","v":"Joston Cripe (FLAT)"},null,{"$f":"RESULTS!D15","v":"Rory Smith (GLA)"},null,null,102.0,{"$f":"RESULTS!D116","v":"Rory Smith (GLA)"}]
[{"$f":"RESULTS!D124","v":"Ethan Violette (SENT)"},110.0,"Loser 86",null,"Loser 41",{"$f":"RESULTS!D50","v":"Elijah Scheinz (HH)"},13.0,{"$f":"RESULTS!D47","v":"Rory Smith (GLA)"},null,null,{"$f":"RESULTS!G104","v":"7-6 (7-4), 6-1"}]
[{"$f":"RESULTS!G112","v":"6-2, 6-2"},{"$nulls":5},{"$f":"RESULTS!F15","v":"Elijah Scheinz (HH)"},{"$f":"RESULTS!G15","v":"6-0,6-0"}]
[null,null,{"$f":"RESULTS!D102","v":"Liam Johnson (MBS)"},null,{"$f":"RESULTS!D73","v":"Hamilton Smith (HG)"},48.0,null,45.0,{"$f":"RESULTS!D88","v":"Rory Smith (GLA)"}]
[null,null,"Loser 85",null,{"$f":"RESULTS!G50","v":"6-1, 6-0"},null,{"$f":"RESULTS!D16","v":"Aiden Binau (SKYV)"},null,{"$f":"RESULTS!G47","v":"6-0, 7-6"}]
[null,null,null,{"$f":"RESULTS!D90","v":"Hamilton Smith (HG)"},71.0,{"$f":"RESULTS!F50","v":"Hamilton Smith (HG)"},14.0,{"$f":"RESULTS!F47","v":"Aiden Binau (SKYV)"}]
[null,{"$f":"RESULTS!F112","v":"Liam Johnson (MBS)"},100.0,{"$f":"RESULTS!G73","v":"5-7, 7-6 (8-6), 6-2"},null,null,{"$f":"RESULTS!F16","v":"Hamilton Smith (HG)"},{"$f":"RESULTS!G16","v":"6-1, 6-0"}]
[null,{"$f":"RESULTS!G102","v":"6-3, 6-3"},null,null,{"$f":"RESULTS!F73","v":"Gavin Anderson (HH)"},null,null,null,86.0,{"$f":"RESULTS!F104","v":"Rory Smith (GLA)"}]
[{"$nulls":4},"Loser 47",null,{"$f":"RESULTS!D17","v":"Ethan Violette (SENT)"},null,null,{"$f":"RESULTS!G88","v":"7-6(7-3), 2-6, 7-6 (7-4)"}]
[null,null,{"$f":"RESULTS!F102","v":"Aiden Binau (SKYV)"},88.0,null,{"$f":"RESULTS!D48","v":"Joel Thompson (SKYV)"},15.0,{"$f":"RESULTS!D49","v":"Ethan Violette (SENT)"}]
[null,null,{"$f":"RESULTS!G90","v":"6-3, 6-3"},null,null,null,{"$f":"RESULTS!F17","v":"Joel Thompson (SKYV)"},{"$f":"RESULTS!G17","v":"6-0, 6-1"}]
[{"$nulls":4},{"$f":"RESULTS!D74","v":"Joel Thompson (SKYV)"},46.0,null,47.0,{"$f":"RESULTS!F88","v":"Ethan Violette (SENT)"}]
[{"$nulls":4},{"$f":"RESULTS!G48","v":"7-5, 6-4"},null,{"$f":"RESULTS!D18","v":"Gavin Anderson (HH)"},null,{"$f":"RESULTS!G49","v":"6-1, 6-1"}]
[null,null,null,{"$f":"RESULTS!F90","v":"Aiden Binau (SKYV)"},72.0,{"$f":"RESULTS!F48","v":"Brett Thompson (FLAT)"},16.0,{"$f":"RESULTS!F49","v":"Gavin Anderson (HH)"}]
[null,null,null,{"$f":"RESULTS!G74","v":"6-2, 6-1"},null,null,{"$f":"RESULTS!F18","v":"Brett Thompson (FLAT)"},{"$f":"RESULTS!G18","v":"6-1, 6-0"}]
[{"$nulls":4},{"$f":"RESULTS!F74","v":"Aiden Binau (SKYV)"}]
[{"$nulls":4},"Loser 45"]

{"sheet":"GD","index":6,"n_rows":36,"n_cols":11,"rows_kept":36,"cut":false,"hidden":false,"merged":[[0,0,0,10],[1,0,1,10],[35,8,35,9],[2,0,9,1]]}
["2019 MHSA State AA Tennis Tournament"]
["Girls Doubles"]
[{"$nulls":5},"Round 3","Round 1","Round 2"]
[]
[{"$nulls":4},"Round 4",null,{"$f":"RESULTS!D19","v":"A. Woods/G. Montague (SEN)"},null,"Round 6"]
[{"$nulls":5},{"$f":"RESULTS!D54","v":"E. Peasley/E. Webster (HG)"},17.0,{"$f":"RESULTS!D51","v":"A. Woods/G. Montague (SEN)"}]
[null,null,null,"Round 5",null,null,{"$f":"RESULTS!F19","v":"E. Peasley/E. Webster (HG)"},{"$f":"RESULTS!G19","v":"6-0, 6-1"},null,"Round 8"]
[{"$nulls":4},{"$f":"RESULTS!D75","v":"E. Peasley/E. Webster (HG)"},52.0,null,49.0,{"$f":"RESULTS!D91","v":"A. Woods/G. Montague (SEN)"}]
[null,null,"Round 7",null,{"$f":"RESULTS!G54","v":"6-2,7-5"},null,{"$f":"RESULTS!D20","v":"R. Koester/K. Lessmeier (GLA)"},null,{"$f":"RESULTS!G51","v":"6-1, 6-1"}]
[null,null,null,{"$f":"RESULTS!D94","v":"E. Peasley/E. Webster (HG)"},73.0,{"$f":"RESULTS!F54","v":"R. Koester/K. Lessmeier (GLA)"},18.0,{"$f":"RESULTS!F51","v":"D. Antmann/A. Loveshin (BUT)"}]
[null,null,null,{"$f":"RESULTS!G75","v":"7-6 (7-4) ,6-2"},null,null,{"$f":"RESULTS!F20","v":"D. Antmann/A. Loveshin (BUT)"},{"$f":"RESULTS!G20","v":"4-6, 6-2, 6-2"}]
[null,"Round 9",null,null,{"$f":"RESULTS!F75","v":"A. Trevor/R. Coonen (HH)"},null,null,null,89.0,{"$f":"RESULTS!D109","v":"A. Woods/G. Montague (SEN)"}]
[{"$nulls":4},"Loser 51",null,{"$f":"RESULTS!D21","v":"A. Trevor/R. Coonen (HH)"},null,null,{"$f":"RESULTS!G91","v":"6-1, 6-1"}]
[null,null,{"$f":"RESULTS!D106","v":"M. Heffernan/E. Bowles (HG)"},92.0,null,{"$f":"RESULTS!D52","v":"S. Dilworth/M. Mercer (FLAT)"},19.0,{"$f":"RESULTS!D53","v":"A. Trevor/R. Coonen (HH)"}]
[null,null,{"$f":"RESULTS!G94","v":"6-3, 6-4"},null,null,null,{"$f":"RESULTS!F21","v":"S. Dilworth/M. Mercer (FLAT)"},{"$f":"RESULTS!G21","v":"Default"}]
[{"$nulls":4},{"$f":"RESULTS!D76","v":"M. Heffernan/E. Bowles (HG)"},50.0,null,51.0,{"$f":"RESULTS!F91","v":"A. Lauman/A. Anderson (BOZ)"}]
[null,{"$f":"RESULTS!D113","v":"M. Heffernan/E. Bowles (HG)"},104.0,null,{"$f":"RESULTS!G52","v":"Default"},null,{"$f":"RESULTS!D22","v":"M. Heffernan/E. Bowles (HG)"},null,{"$f":"RESULTS!G53","v":"6-1, 6-7 (7-2), 6-3"}]
[null,{"$f":"RESULTS!G106","v":"6-3, 4-6, 10-4"},null,{"$f":"RESULTS!F94","v":"M. Heffernan/E. Bowles (HG)"},74.0,{"$f":"RESULTS!F52","v":"M. Heffernan/E. Bowles (HG)"},20.0,{"$f":"RESULTS!F53","v":"A. Lauman/A. Anderson (BOZ)"}]
[null,null,null,{"$f":"RESULTS!G76","v":"7-5, 6-4"},null,null,{"$f":"RESULTS!F22","v":"A. Lauman/A. Anderson (BOZ)"},{"$f":"RESULTS!G22","v":"6-3, 7-5"}]
[null,null,{"$f":"RESULTS!F106","v":"H. Carlson/J. Guzman (SKYV)"},null,{"$f":"RESULTS!F76","v":"D. Antmann/A. Loveshin (BUT)"},null,{"$f":"RESULTS!D23","v":"H. Nikunen/A. Sliter (GLA)"},null,null,107.0,{"$f":"RESULTS!D121","v":"A. Woods/G. Montague (SEN)"}]
[{"$f":"RESULTS!D125","v":""},111.0,"Loser 91",null,"Loser 49",{"$f":"RESULTS!D58","v":"H. Nikunen/A. Sliter (GLA)"},21.0,{"$f":"RESULTS!D55","v":"D. Steinmetz/K. Normandy (HH)"},null,null,{"$f":"RESULTS!G109","v":"6-1, 6-0"}]
[{"$f":"RESULTS!G113","v":""},{"$nulls":5},{"$f":"RESULTS!F23","v":"D. Steinmetz/K. Normandy (HH)"},{"$f":"RESULTS!G23","v":"6-2, 6-3"}]
[null,null,{"$f":"RESULTS!D105","v":"A. Lauman/A. Anderson (BOZ)"},null,{"$f":"RESULTS!D77","v":"C. Farago/B. Gee (MBS)"},56.0,null,53.0,{"$f":"RESULTS!D93","v":"L. Ward/S. Hathaway (BOZ)"}]
[null,null,"Loser 89",null,{"$f":"RESULTS!G58","v":"6-2, 6-2"},null,{"$f":"RESULTS!D24","v":"L. Ward/S. Hathaway (BOZ)"},null,{"$f":"RESULTS!G55","v":"6-1, 6-2"}]
[null,null,null,{"$f":"RESULTS!D92","v":"E. Hasquet/M. Hammer (HH)"},75.0,{"$f":"RESULTS!F58","v":"C. Farago/B. Gee (MBS)"},22.0,{"$f":"RESULTS!F55","v":"L. Ward/S. Hathaway (BOZ)"}]
[null,{"$f":"RESULTS!F113","v":"E. Hasquet/M. Hammer (HH)"},103.0,{"$f":"RESULTS!G77","v":"6-4,6-3"},null,null,{"$f":"RESULTS!F24","v":"C. Farago/B. Gee (MBS)"},{"$f":"RESULTS!G24","v":"6-0, 6-2"}]
[null,{"$f":"RESULTS!G105","v":"6-3, 6-3"},null,null,{"$f":"RESULTS!F77","v":"E. Hasquet/M. Hammer (HH)"},null,null,null,91.0,{"$f":"RESULTS!F109","v":"L. Ward/S. Hathaway (BOZ)"}]
[{"$nulls":4},"Loser 55",null,{"$f":"RESULTS!D25","v":"L. Badger/L. Badger (SENT)"},null,null,{"$f":"RESULTS!G93","v":"4-6, 6-3, 6-3"}]
[null,null,{"$f":"RESULTS!F105","v":"E. Hasquet/M. Hammer (HH)"},90.0,null,{"$f":"RESULTS!D56","v":"L. Badger/L. Badger (SENT)"},23.0,{"$f":"RESULTS!D57","v":"H. Carlson/J. Guzman (SKYV)"}]
[null,null,{"$f":"RESULTS!G92","v":"6-4, 6-2"},null,null,null,{"$f":"RESULTS!F25","v":"H. Carlson/J. Guzman (SKYV)"},{"$f":"RESULTS!G25","v":"7-5, 6-1"}]
[{"$nulls":4},{"$f":"RESULTS!D78","v":"L. Badger/L. Badger (SENT)"},54.0,null,55.0,{"$f":"RESULTS!F93","v":"H. Carlson/J. Guzman (SKYV)"}]
[{"$nulls":4},{"$f":"RESULTS!G56","v":"6-1, 4-6, 7-6 (7-5)"},null,{"$f":"RESULTS!D26","v":"E. Hasquet/M. Hammer (HH)"},null,{"$f":"RESULTS!G57","v":"7-6 (7-4), 4-6, 6-2"}]
[null,null,null,{"$f":"RESULTS!F92","v":"D. Steinmetz/K. Normandy (HH)"},76.0,{"$f":"RESULTS!F56","v":"K. Pyron/E. Hawkins (FLAT)"},24.0,{"$f":"RESULTS!F57","v":"E. Hasquet/M. Hammer (HH)"}]
[null,null,null,{"$f":"RESULTS!G78","v":"6-3, 4-6, 6-2"},null,null,{"$f":"RESULTS!F26","v":"K. Pyron/E. Hawkins (FLAT)"},{"$f":"RESULTS!G26","v":"6-2, 6-3"}]
[{"$nulls":4},{"$f":"RESULTS!F78","v":"D. Steinmetz/K. Normandy (HH)"}]
[{"$nulls":4},"Loser 53"]

{"sheet":"BD","index":7,"n_rows":36,"n_cols":11,"rows_kept":36,"cut":false,"hidden":false,"merged":[[0,0,0,10],[1,0,1,10],[35,8,35,9],[2,0,9,1]]}
["2019 MHSA State AA Tennis Tournament"]
["Boys Doubles"]
[{"$nulls":5},"Round 3","Round 1","Round 2"]
[]
[{"$nulls":4},"Round 4",null,{"$f":"RESULTS!D27","v":"T. Johnson/J. Ostler (WEST)"},null,"Round 6"]
[{"$nulls":5},{"$f":"RESULTS!D62","v":"D. Engellant/M. Heil (GLA)"},25.0,{"$f":"RESULTS!D59","v":"T. Johnson/J. Ostler (WEST)"}]
[null,null,null,"Round 5",null,null,{"$f":"RESULTS!F27","v":"D. Engellant/M. Heil (GLA)"},{"$f":"RESULTS!G27","v":"6-2,6-0"},null,"Round 8"]
[{"$nulls":4},{"$f":"RESULTS!D79","v":"D. Engellant/M. Heil (GLA)"},60.0,null,57.0,{"$f":"RESULTS!D95","v":"T. Johnson/J. Ostler (WEST)"}]
[null,null,"Round 7",null,{"$f":"RESULTS!G62","v":"6-3, 6-4"},null,{"$f":"RESULTS!D28","v":"A. Mosely/H. Stahl (HG)"},null,{"$f":"RESULTS!G59","v":"6-3, 4-6, 6-4"}]
[null,null,null,{"$f":"RESULTS!D98","v":"N. White/E. Hawkins (FLAT)"},77.0,{"$f":"RESULTS!F62","v":"D. Ferry/Z. Johnson (BUT)"},26.0,{"$f":"RESULTS!F59","v":"A. Mosely/H. Stahl (HG)"}]
[null,null,null,{"$f":"RESULTS!G79","v":"6-4, 6-3"},null,null,{"$f":"RESULTS!F28","v":"D. Ferry/Z. Johnson (BUT)"},{"$f":"RESULTS!G28","v":"6-1,6-1"}]
[null,"Round 9",null,null,{"$f":"RESULTS!F79","v":"N. White/E. Hawkins (FLAT)"},null,null,null,93.0,{"$f":"RESULTS!D110","v":"T. Johnson/J. Ostler (WEST)"}]
[{"$nulls":4},"Loser 59",null,{"$f":"RESULTS!D29","v":"E. Battershell-Corson/\nM. Abbott (HH)"},null,null,{"$f":"RESULTS!G95","v":"3-6, 6-3, 7-5"}]
[null,null,{"$f":"RESULTS!D108","v":"A. Mosely/H. Stahl (HG)"},96.0,null,{"$f":"RESULTS!D60","v":"E. Battershell-Corson/\nM. Abbott (HH)"},27.0,{"$f":"RESULTS!D61","v":"H. Ledyard/W. Brown (HG)"}]
[null,null,{"$f":"RESULTS!G98","v":"7-6 (10-8), 6-2"},null,null,null,{"$f":"RESULTS!F29","v":"H. Ledyard/W. Brown (HG)"},{"$f":"RESULTS!G29","v":"6-1,6-1"}]
[{"$nulls":4},{"$f":"RESULTS!D80","v":"C. Brunner/B. Ebel (SKYV)"},58.0,null,59.0,{"$f":"RESULTS!F95","v":"H. Ledyard/W. Brown (HG)"}]
[null,{"$f":"RESULTS!D114","v":"A. Mosely/H. Stahl (HG)"},106.0,null,{"$f":"RESULTS!G60","v":"6-1, 6-3"},null,{"$f":"RESULTS!D30","v":"C. Brunner/B. Ebel (SKYV)"},null,{"$f":"RESULTS!G61","v":"6-1, 6-2"}]
[null,{"$f":"RESULTS!G108","v":"6-2, 5-7, 10-4"},null,{"$f":"RESULTS!F98","v":"A. Mosely/H. Stahl (HG)"},78.0,{"$f":"RESULTS!F60","v":"C. Brunner/B. Ebel (SKYV)"},28.0,{"$f":"RESULTS!F61","v":"N. White/E. Hawkins (FLAT)"}]
[null,null,null,{"$f":"RESULTS!G80","v":"6-2,6-4"},null,null,{"$f":"RESULTS!F30","v":"N. White/E. Hawkins (FLAT)"},{"$f":"RESULTS!G30","v":"6-4,6-3"}]
[null,null,{"$f":"RESULTS!F108","v":"J. Johnston/S. Olsen (SENT)"},null,{"$f":"RESULTS!F80","v":"A. Mosely/H. Stahl (HG)"},null,{"$f":"RESULTS!D31","v":"C. Curtis/C. D'Angelo (SENT)"},null,null,108.0,{"$f":"RESULTS!D122","v":"C. Curtis/C. D'Angelo (SENT)"}]
[{"$f":"RESULTS!D126","v":""},112.0,"Loser 95",null,"Loser 57",{"$f":"RESULTS!D66","v":"A. Francisco/R. Park (BUT)"},29.0,{"$f":"RESULTS!D63","v":"C. Curtis/C. D'Angelo (SENT)"},null,null,{"$f":"RESULTS!G110","v":"6-3, 6-2"}]
[{"$f":"RESULTS!G114","v":""},{"$nulls":5},{"$f":"RESULTS!F31","v":"A. Francisco/R. Park (BUT)"},{"$f":"RESULTS!G31","v":"6-1, 6-1"}]
[null,null,{"$f":"RESULTS!D107","v":"H. Ledyard/W. Brown (HG)"},null,{"$f":"RESULTS!D81","v":"A. Francisco/R. Park (BUT)"},64.0,null,61.0,{"$f":"RESULTS!D97","v":"C. Curtis/C. D'Angelo (SENT)"}]
[null,null,"Loser 93",null,{"$f":"RESULTS!G66","v":"6-4, 0-6, 7-6 (5)"},null,{"$f":"RESULTS!D32","v":"J. Kamp/L. Collins (BOZ)"},null,{"$f":"RESULTS!G63","v":"6-1, 7-5"}]
[null,null,null,{"$f":"RESULTS!D96","v":"A. Francisco/R. Park (BUT)"},79.0,{"$f":"RESULTS!F66","v":"K. Buckingham/\nA. Patel (GLA)"},30.0,{"$f":"RESULTS!F63","v":"J. Kamp/L. Collins (BOZ)"}]
[null,{"$f":"RESULTS!F114","v":"H. Ledyard/W. Brown (HG)"},105.0,{"$f":"RESULTS!G81","v":"6-1, 6-4"},null,null,{"$f":"RESULTS!F32","v":"K. Buckingham/\nA. Patel (GLA)"},{"$f":"RESULTS!G32","v":"6-2,6-2"}]
[null,{"$f":"RESULTS!G107","v":"7-6(7-3), 6-2"},null,null,{"$f":"RESULTS!F81","v":"M. Foster/J. Driscoll (SEN)"},null,null,null,95.0,{"$f":"RESULTS!F110","v":"C. Curtis/C. D'Angelo (SENT)"}]
[{"$nulls":4},"Loser 63",null,{"$f":"RESULTS!D33","v":"B. Desmul/E. Purdy (GLA)"},null,null,{"$f":"RESULTS!G97","v":"6-2, 6-2"}]
[null,null,{"$f":"RESULTS!F107","v":"J. Kamp/L. Collins (BOZ)"},94.0,null,{"$f":"RESULTS!D64","v":"B. Desmul/E. Purdy (GLA)"},31.0,{"$f":"RESULTS!D65","v":"M. Foster/J. Driscoll (SEN)"}]
[null,null,{"$f":"RESULTS!G96","v":"6-4, 6-3"},null,null,null,{"$f":"RESULTS!F33","v":"M. Foster/J. Driscoll (SEN)"},{"$f":"RESULTS!G33","v":"7-6 (4), 1-6, 6-1"}]
[{"$nulls":4},{"$f":"RESULTS!D82","v":"C. Casne/C. Ryerson (HH)"},62.0,null,63.0,{"$f":"RESULTS!F97","v":"J. Johnston/S. Olsen (SENT)"}]
[{"$nulls":4},{"$f":"RESULTS!G64","v":"6-3, 6-2"},null,{"$f":"RESULTS!D34","v":"C. Casne/C. Ryerson (HH)"},null,{"$f":"RESULTS!G65","v":"6-2, 6-3"}]
[null,null,null,{"$f":"RESULTS!F96","v":"J. Kamp/L. Collins (BOZ)"},80.0,{"$f":"RESULTS!F64","v":"C. Casne/C. Ryerson (HH)"},32.0,{"$f":"RESULTS!F65","v":"J. Johnston/S. Olsen (SENT)"}]
[null,null,null,{"$f":"RESULTS!G82","v":"7-6(5), 4-6, 6-0"},null,null,{"$f":"RESULTS!F34","v":"J. Johnston/S. Olsen (SENT)"},{"$f":"RESULTS!G34","v":"6-4,6-1"}]
[{"$nulls":4},{"$f":"RESULTS!F82","v":"J. Kamp/L. Collins (BOZ)"}]
[{"$nulls":4},"Loser 61"]